BEGIN:VCALENDAR
VERSION:2.0
PRODID:-//hacksw/handcal//NONSGML v1.0//EN
BEGIN:VEVENT
SUMMARY:stand ferme Preparation concours TAR
UID:ab732cb1-9d8f-4a2f-ae70-a4a7cb11426c
DTSTART:20260326T080000Z
DTEND:20260326T181500Z
LOCATION:Localisation   
CATEGORIES:Sportif
STATUS:
URL;VALUE=URI:https://ctbladetente.sportsregions.fr/evenements/2026/03/26/stand-ferme-preparation-concours-tar-2432414
END:VEVENT
END:VCALENDAR
