BEGIN:VCALENDAR
VERSION:2.0
PRODID:-//hacksw/handcal//NONSGML v1.0//EN
BEGIN:VEVENT
SUMMARY:tir de controle carnet de tir
UID:caee9c88-e6a1-4336-847a-5775e6b55006
DTSTART:20260407T123000Z
DTEND:20260407T153000Z
LOCATION:Localisation   
CATEGORIES:Sportif
STATUS:
URL;VALUE=URI:https://ctbladetente.sportsregions.fr/evenements/2026/04/07/tir-de-controle-carnet-de-tir-2436267
END:VEVENT
END:VCALENDAR
