BEGIN:VCALENDAR
VERSION:2.0
PRODID:-//hacksw/handcal//NONSGML v1.0//EN
BEGIN:VEVENT
SUMMARY:tir de controle carnet de tir
UID:adfebbd4-89be-4bfc-b990-5d10e166e5df
DTSTART:20260410T123000Z
DTEND:20260410T153000Z
LOCATION:Localisation   
CATEGORIES:Sportif
STATUS:
URL;VALUE=URI:https://ctbladetente.sportsregions.fr/evenements/2026/04/10/tir-de-controle-carnet-de-tir-2436268
END:VEVENT
END:VCALENDAR
