BEGIN:VCALENDAR
VERSION:2.0
PRODID:-//hacksw/handcal//NONSGML v1.0//EN
BEGIN:VEVENT
SUMMARY:tir de controle carnet de tir
UID:c5232906-a22f-4903-b437-f19750a1f670
DTSTART:20260519T073000Z
DTEND:20260519T093000Z
LOCATION:Localisation   
CATEGORIES:Sportif
STATUS:
URL;VALUE=URI:https://ctbladetente.sportsregions.fr/evenements/2026/05/19/tir-de-controle-carnet-de-tir-2436281
END:VEVENT
END:VCALENDAR
