BEGIN:VCALENDAR
VERSION:2.0
PRODID:-//hacksw/handcal//NONSGML v1.0//EN
BEGIN:VEVENT
SUMMARY:tir de controle carnet de tir
UID:aa66777f-3728-41ac-8719-e981fa3a730a
DTSTART:20260526T123000Z
DTEND:20260526T153000Z
LOCATION:Localisation   
CATEGORIES:Sportif
STATUS:
URL;VALUE=URI:https://ctbladetente.sportsregions.fr/evenements/2026/05/26/tir-de-controle-carnet-de-tir-2436283
END:VEVENT
END:VCALENDAR
