BEGIN:VCALENDAR
VERSION:2.0
PRODID:-//hacksw/handcal//NONSGML v1.0//EN
BEGIN:VEVENT
SUMMARY:tir de controle carnet de tir
UID:b5ae2f92-3f14-4faf-9ce2-63623fa66d13
DTSTART:20260529T123000Z
DTEND:20260529T153000Z
LOCATION:Localisation   
CATEGORIES:Sportif
STATUS:
URL;VALUE=URI:https://ctbladetente.sportsregions.fr/evenements/2026/05/29/tir-de-controle-carnet-de-tir-2436285
END:VEVENT
END:VCALENDAR
